BEGIN:VCALENDAR
VERSION:2.0
PRODID:-//GO! SBSO Campus Ter Sterre - Buitengewoon secundair onderwijs OV4 Type 9 - ECPv6.15.20//NONSGML v1.0//EN
CALSCALE:GREGORIAN
METHOD:PUBLISH
X-ORIGINAL-URL:https://www.tersterre.be
X-WR-CALDESC:Events voor GO! SBSO Campus Ter Sterre - Buitengewoon secundair onderwijs OV4 Type 9
REFRESH-INTERVAL;VALUE=DURATION:PT1H
X-Robots-Tag:noindex
X-PUBLISHED-TTL:PT1H
BEGIN:VTIMEZONE
TZID:Europe/Paris
BEGIN:DAYLIGHT
TZOFFSETFROM:+0100
TZOFFSETTO:+0200
TZNAME:CEST
DTSTART:20250330T010000
END:DAYLIGHT
BEGIN:STANDARD
TZOFFSETFROM:+0200
TZOFFSETTO:+0100
TZNAME:CET
DTSTART:20251026T010000
END:STANDARD
BEGIN:DAYLIGHT
TZOFFSETFROM:+0100
TZOFFSETTO:+0200
TZNAME:CEST
DTSTART:20260329T010000
END:DAYLIGHT
BEGIN:STANDARD
TZOFFSETFROM:+0200
TZOFFSETTO:+0100
TZNAME:CET
DTSTART:20261025T010000
END:STANDARD
BEGIN:DAYLIGHT
TZOFFSETFROM:+0100
TZOFFSETTO:+0200
TZNAME:CEST
DTSTART:20270328T010000
END:DAYLIGHT
BEGIN:STANDARD
TZOFFSETFROM:+0200
TZOFFSETTO:+0100
TZNAME:CET
DTSTART:20271031T010000
END:STANDARD
END:VTIMEZONE
BEGIN:VEVENT
DTSTART;TZID=Europe/Paris:20260223T190000
DTEND;TZID=Europe/Paris:20260223T210000
DTSTAMP:20260422T232402
CREATED:20251016T070004Z
LAST-MODIFIED:20260223T171148Z
UID:8667-1771873200-1771880400@www.tersterre.be
SUMMARY:Infoavond - Q&A aanmeldingsprocedure
DESCRIPTION:Tijdens deze avond beantwoorden we vragen over de aanmeldings- & inschrijvingsprocedure en het aanmeldingsformulier zodat alles zeer duidelijk is voor de start van de aanmeldingen. \nNeem zeker de info op de website en het voorbije evenement eerst door\, want deze wordt niet volledig herhaald. \nDeelnemen kan vanaf 19u via deze link. \nOnderstaande powerpoint wordt gebruikt tijdens de infoavond.
URL:https://www.tersterre.be/evenement/infoavond-qa-aanmeldingsprocedure/
LOCATION:Online
CATEGORIES:2025 - 2026,Evenementen,Infomoment
END:VEVENT
END:VCALENDAR