BEGIN:VCALENDAR
VERSION:2.0
PRODID:-//GO! SBSO Campus Ter Sterre - Buitengewoon secundair onderwijs OV4 Type 9 - ECPv6.15.20//NONSGML v1.0//EN
CALSCALE:GREGORIAN
METHOD:PUBLISH
X-WR-CALNAME:GO! SBSO Campus Ter Sterre - Buitengewoon secundair onderwijs OV4 Type 9
X-ORIGINAL-URL:https://www.tersterre.be
X-WR-CALDESC:Events voor GO! SBSO Campus Ter Sterre - Buitengewoon secundair onderwijs OV4 Type 9
REFRESH-INTERVAL;VALUE=DURATION:PT1H
X-Robots-Tag:noindex
X-PUBLISHED-TTL:PT1H
BEGIN:VTIMEZONE
TZID:Europe/Paris
BEGIN:DAYLIGHT
TZOFFSETFROM:+0100
TZOFFSETTO:+0200
TZNAME:CEST
DTSTART:20240331T010000
END:DAYLIGHT
BEGIN:STANDARD
TZOFFSETFROM:+0200
TZOFFSETTO:+0100
TZNAME:CET
DTSTART:20241027T010000
END:STANDARD
BEGIN:DAYLIGHT
TZOFFSETFROM:+0100
TZOFFSETTO:+0200
TZNAME:CEST
DTSTART:20250330T010000
END:DAYLIGHT
BEGIN:STANDARD
TZOFFSETFROM:+0200
TZOFFSETTO:+0100
TZNAME:CET
DTSTART:20251026T010000
END:STANDARD
BEGIN:DAYLIGHT
TZOFFSETFROM:+0100
TZOFFSETTO:+0200
TZNAME:CEST
DTSTART:20260329T010000
END:DAYLIGHT
BEGIN:STANDARD
TZOFFSETFROM:+0200
TZOFFSETTO:+0100
TZNAME:CET
DTSTART:20261025T010000
END:STANDARD
END:VTIMEZONE
BEGIN:VEVENT
DTSTART;TZID=Europe/Paris:20250225T190000
DTEND;TZID=Europe/Paris:20250225T203000
DTSTAMP:20260423T170449
CREATED:20241115T123148Z
LAST-MODIFIED:20250310T095949Z
UID:8273-1740510000-1740515400@www.tersterre.be
SUMMARY:Q&A over de aanmeldings- & inschrijvingsprocedure
DESCRIPTION:Tijdens deze avond beantwoorden we de laatste vragen over de aanmeldings- & inschrijvingsprocedure en het aanmeldingsformulier zodat alles zeer duidelijk is voor de start van de aanmeldingen.\n\nDeze infoavond is voorbij. U kunt hieronder wel de powerpoint voorstelling herbekijken die werd gebruikt.
URL:https://www.tersterre.be/evenement/qa-over-de-aanmeldings-inschrijvingsprocedure-informatieavond-basisopties-2de-jaar/
LOCATION:Online
CATEGORIES:2024-2025,Evenementen,Infomoment
END:VEVENT
END:VCALENDAR