BEGIN:VCALENDAR
VERSION:2.0
PRODID:-//GO! SBSO Campus Ter Sterre - Buitengewoon secundair onderwijs OV4 Type 9 - ECPv6.15.20//NONSGML v1.0//EN
CALSCALE:GREGORIAN
METHOD:PUBLISH
X-ORIGINAL-URL:https://www.tersterre.be
X-WR-CALDESC:Events voor GO! SBSO Campus Ter Sterre - Buitengewoon secundair onderwijs OV4 Type 9
REFRESH-INTERVAL;VALUE=DURATION:PT1H
X-Robots-Tag:noindex
X-PUBLISHED-TTL:PT1H
BEGIN:VTIMEZONE
TZID:Europe/Paris
BEGIN:DAYLIGHT
TZOFFSETFROM:+0100
TZOFFSETTO:+0200
TZNAME:CEST
DTSTART:20240331T010000
END:DAYLIGHT
BEGIN:STANDARD
TZOFFSETFROM:+0200
TZOFFSETTO:+0100
TZNAME:CET
DTSTART:20241027T010000
END:STANDARD
BEGIN:DAYLIGHT
TZOFFSETFROM:+0100
TZOFFSETTO:+0200
TZNAME:CEST
DTSTART:20250330T010000
END:DAYLIGHT
BEGIN:STANDARD
TZOFFSETFROM:+0200
TZOFFSETTO:+0100
TZNAME:CET
DTSTART:20251026T010000
END:STANDARD
BEGIN:DAYLIGHT
TZOFFSETFROM:+0100
TZOFFSETTO:+0200
TZNAME:CEST
DTSTART:20260329T010000
END:DAYLIGHT
BEGIN:STANDARD
TZOFFSETFROM:+0200
TZOFFSETTO:+0100
TZNAME:CET
DTSTART:20261025T010000
END:STANDARD
END:VTIMEZONE
BEGIN:VEVENT
DTSTART;TZID=Europe/Paris:20250201T090000
DTEND;TZID=Europe/Paris:20250201T130000
DTSTAMP:20260423T182436
CREATED:20241115T122643Z
LAST-MODIFIED:20250110T115200Z
UID:8265-1738400400-1738414800@www.tersterre.be
SUMMARY:Open Lesdag
DESCRIPTION:Bent u benieuwd hoe een dag verloopt op Ter Sterre? Op zaterdag 1 februari gaat onze open lesdag door op de vestiging in Moorslede én Oostnieuwkerke en zetten wij onze school open om samen met onze  collega’s en leerlingen jullie wegwijs te maken op ons schooldomein én het eigene van onze school te ontdekken. \nInschrijven is verplicht en kan via deze link.
URL:https://www.tersterre.be/evenement/open-lesdag-2/
LOCATION:GO! SBSO Ter Sterre Vestigingen Moorslede & Oostnieuwkerke
CATEGORIES:2024-2025,Evenementen,Infomoment
END:VEVENT
END:VCALENDAR