BEGIN:VCALENDAR
VERSION:2.0
PRODID:-//GO! SBSO Campus Ter Sterre - Buitengewoon secundair onderwijs OV4 Type 9 - ECPv6.15.20//NONSGML v1.0//EN
CALSCALE:GREGORIAN
METHOD:PUBLISH
X-ORIGINAL-URL:https://www.tersterre.be
X-WR-CALDESC:Events voor GO! SBSO Campus Ter Sterre - Buitengewoon secundair onderwijs OV4 Type 9
REFRESH-INTERVAL;VALUE=DURATION:PT1H
X-Robots-Tag:noindex
X-PUBLISHED-TTL:PT1H
BEGIN:VTIMEZONE
TZID:Europe/Paris
BEGIN:DAYLIGHT
TZOFFSETFROM:+0100
TZOFFSETTO:+0200
TZNAME:CEST
DTSTART:20230326T010000
END:DAYLIGHT
BEGIN:STANDARD
TZOFFSETFROM:+0200
TZOFFSETTO:+0100
TZNAME:CET
DTSTART:20231029T010000
END:STANDARD
BEGIN:DAYLIGHT
TZOFFSETFROM:+0100
TZOFFSETTO:+0200
TZNAME:CEST
DTSTART:20240331T010000
END:DAYLIGHT
BEGIN:STANDARD
TZOFFSETFROM:+0200
TZOFFSETTO:+0100
TZNAME:CET
DTSTART:20241027T010000
END:STANDARD
BEGIN:DAYLIGHT
TZOFFSETFROM:+0100
TZOFFSETTO:+0200
TZNAME:CEST
DTSTART:20250330T010000
END:DAYLIGHT
BEGIN:STANDARD
TZOFFSETFROM:+0200
TZOFFSETTO:+0100
TZNAME:CET
DTSTART:20251026T010000
END:STANDARD
END:VTIMEZONE
BEGIN:VEVENT
DTSTART;TZID=Europe/Paris:20240830T174500
DTEND;TZID=Europe/Paris:20240830T214500
DTSTAMP:20260424T034432
CREATED:20240621T092234Z
LAST-MODIFIED:20240626T080117Z
UID:8021-1725039900-1725054300@www.tersterre.be
SUMMARY:Kick Off Hoofdvestiging Moorslede
DESCRIPTION:Campus Ter Sterre nodigt jou en jouw ouders uit voor de kick off van het nieuwe schooljaar!\nPROGRAMMA EERSTE JAAR: \n\n\n\n16u45 – 17u00: ONTHAALOntvang alle informatie voor een vlotte start op 2 september. \n\n\n\n17u00 – 18u00: SCHOOLVOORSTELLINGMaak kennis of praat bij met je klasgenoten en leerkrachten. \n\n\n\n18u00 – …: ZOMERBARGeniet van een gezellige drink in de zomerbar. \nPROGRAMMA TWEEDE JAAR: \n\n\n \n18u15 – 18u30: ONTHAALOntvang alle informatie voor een vlotte start op 2 september. \n\n\n \n18u30 – 19u30: SCHOOLVOORSTELLINGMaak kennis of praat bij met je klasgenoten en leerkrachten. \n\n\n \n19u30 – …: ZOMERBARGeniet van een gezellige drink in de zomerbar. \nPROGRAMMA DERDE TOT ZEVENDE JAAR: \n\n\n \n19u45 – 20u00: ONTHAALOntvang alle informatie voor een vlotte start op 2 september. \n\n\n \n20u00 – 21u00: SCHOOLVOORSTELLINGMaak kennis of praat bij met je klasgenoten en leerkrachten. \n\n\n \n21u00 – …: ZOMERBARGeniet van een gezellige drink in de zomerbar. \nTIP: breng je mappen en boeken al mee!\nInschrijven is verplicht en kan tot en met 25 augustus door onderstaand formulier in te vullen.
URL:https://www.tersterre.be/evenement/kick-off-hoofdvestiging-moorslede/
LOCATION:GO! SBSO Ter Sterre Vestiging Moorslede\, Passendaalsestraat 26\, Moorslede\, West-Vlaanderen\, 8890
CATEGORIES:2023-2024,Infomoment
ATTACH;FMTTYPE=image/png:https://www.tersterre.be/wp-content/uploads/2024/06/1-1.png
END:VEVENT
BEGIN:VEVENT
DTSTART;TZID=Europe/Paris:20240830T190000
DTEND;TZID=Europe/Paris:20240830T214500
DTSTAMP:20260424T034432
CREATED:20240606T081757Z
LAST-MODIFIED:20240626T080049Z
UID:7983-1725044400-1725054300@www.tersterre.be
SUMMARY:Kick Off Campus Oostnieuwkerke
DESCRIPTION:Campus Ter Sterre Oostnieuwkerke nodigt jou en jouw ouders uit voor de kick off van het nieuwe schooljaar! \n\n\n\nPROGRAMMA DERDE JAAR: \n\n\n\n19u00 – 19u15: ONTHAALOntvang alle informatie voor een vlotte start op 2 september. \n\n\n\n19u15 – 20u15: SCHOOLVOORSTELLINGMaak kennis of praat bij met je klasgenoten en leerkrachten. \n\n\n\n20u15 – …: PRAATCAFÉ & BOEKOPHALINGGeniet van een gezellige drink in het praatcafé en haal jouw boeken op. \n  \nPROGRAMMA VIERDE JAAR: \n\n\n \n19u30 – 19u45: ONTHAALOntvang alle informatie voor een vlotte start op 2 september. \n\n\n \n19u45 – 20u45: SCHOOLVOORSTELLINGMaak kennis of praat bij met je klasgenoten en leerkrachten. \n\n\n \n20u45 – …: PRAATCAFÉ & BOEKOPHALINGGeniet van een gezellige drink in het praatcafé en haal jouw boeken op. \n  \nPROGRAMMA VIJFDE & ZESDE JAAR: \n\n\n \n20u00 – 20u15: ONTHAALOntvang alle informatie voor een vlotte start op 2 september. \n\n\n \n20u15 – 21u15: SCHOOLVOORSTELLINGMaak kennis of praat bij met je klasgenoten en leerkrachten. \n\n\n \n21u15 – …: PRAATCAFÉ & BOEKOPHALINGGeniet van een gezellige drink in het praatcafé en haal jouw boeken op. \nInschrijven is verplicht en kan tot en met 25 augustus door onderstaand formulier in te vullen.
URL:https://www.tersterre.be/evenement/kick-off-campus-oostnieuwkerke-24/
LOCATION:GO! SBSO Ter Sterre vestiging Oostnieuwkerke\, Roeselarestraat 61\, Oostnieuwkerke\, West-Vlaanderen\, 8840
CATEGORIES:2023-2024,Infomoment
END:VEVENT
END:VCALENDAR