BEGIN:VCALENDAR
VERSION:2.0
PRODID:-//GO! SBSO Campus Ter Sterre - Buitengewoon secundair onderwijs OV4 Type 9 - ECPv6.15.20//NONSGML v1.0//EN
CALSCALE:GREGORIAN
METHOD:PUBLISH
X-WR-CALNAME:GO! SBSO Campus Ter Sterre - Buitengewoon secundair onderwijs OV4 Type 9
X-ORIGINAL-URL:https://www.tersterre.be
X-WR-CALDESC:Events voor GO! SBSO Campus Ter Sterre - Buitengewoon secundair onderwijs OV4 Type 9
REFRESH-INTERVAL;VALUE=DURATION:PT1H
X-Robots-Tag:noindex
X-PUBLISHED-TTL:PT1H
BEGIN:VTIMEZONE
TZID:Europe/Paris
BEGIN:DAYLIGHT
TZOFFSETFROM:+0100
TZOFFSETTO:+0200
TZNAME:CEST
DTSTART:20230326T010000
END:DAYLIGHT
BEGIN:STANDARD
TZOFFSETFROM:+0200
TZOFFSETTO:+0100
TZNAME:CET
DTSTART:20231029T010000
END:STANDARD
BEGIN:DAYLIGHT
TZOFFSETFROM:+0100
TZOFFSETTO:+0200
TZNAME:CEST
DTSTART:20240331T010000
END:DAYLIGHT
BEGIN:STANDARD
TZOFFSETFROM:+0200
TZOFFSETTO:+0100
TZNAME:CET
DTSTART:20241027T010000
END:STANDARD
BEGIN:DAYLIGHT
TZOFFSETFROM:+0100
TZOFFSETTO:+0200
TZNAME:CEST
DTSTART:20250330T010000
END:DAYLIGHT
BEGIN:STANDARD
TZOFFSETFROM:+0200
TZOFFSETTO:+0100
TZNAME:CET
DTSTART:20251026T010000
END:STANDARD
END:VTIMEZONE
BEGIN:VEVENT
DTSTART;TZID=Europe/Paris:20240227T190000
DTEND;TZID=Europe/Paris:20240227T203000
DTSTAMP:20260424T121537
CREATED:20231109T094829Z
LAST-MODIFIED:20240229T152133Z
UID:6675-1709060400-1709065800@www.tersterre.be
SUMMARY:Q&A over de aanmeldings- & inschrijvingsprocedure + Informatieavond basisopties 2de jaar
DESCRIPTION:Deze informatieavond is voorbij\, u kunt het gebruikte materiaal wel nog steeds herbekijken.\nDeel 1: Q&A over de aanmeldings- & inschrijvingsprocedure\nTijdens deze avond beantwoorden we de laatste vragen over de aanmeldings- & inschrijvingsprocedure en het aanmeldingsformulier zodat alles zeer duidelijk is voor de start van de aanmeldingen. De opgenomen voorstelling valt hieronder opnieuw te raadplegen. \n\nhttps://www.tersterre.be/wp-content/uploads/2024/02/QA.mp4\n  \nDeel 2: Informatieavond basisopties 2de jaar\nTijdens deze avond staan we uitgebreid stil bij de 3 verschillende basisopties die we aanbieden in het 2de leerjaar A en het pakket basisopties die we aanbieden in het 2de leerjaar B op onze vestiging in Moorslede. De opgenomen voorstelling valt hieronder opnieuw te raadplegen. \nhttps://www.tersterre.be/wp-content/uploads/2024/02/basisopties-2023-2024.mp4
URL:https://www.tersterre.be/evenement/qa-over-de-aanmeldings-inschrijvingsprocedure-informatieavond-basisopties-2de-jaar-2324/
LOCATION:Online
CATEGORIES:2023-2024,Infomoment
END:VEVENT
END:VCALENDAR