BEGIN:VCALENDAR
VERSION:2.0
PRODID:-//GO! SBSO Campus Ter Sterre - Buitengewoon secundair onderwijs OV4 Type 9 - ECPv6.15.20//NONSGML v1.0//EN
CALSCALE:GREGORIAN
METHOD:PUBLISH
X-WR-CALNAME:GO! SBSO Campus Ter Sterre - Buitengewoon secundair onderwijs OV4 Type 9
X-ORIGINAL-URL:https://www.tersterre.be
X-WR-CALDESC:Events voor GO! SBSO Campus Ter Sterre - Buitengewoon secundair onderwijs OV4 Type 9
REFRESH-INTERVAL;VALUE=DURATION:PT1H
X-Robots-Tag:noindex
X-PUBLISHED-TTL:PT1H
BEGIN:VTIMEZONE
TZID:Europe/Paris
BEGIN:DAYLIGHT
TZOFFSETFROM:+0100
TZOFFSETTO:+0200
TZNAME:CEST
DTSTART:20230326T010000
END:DAYLIGHT
BEGIN:STANDARD
TZOFFSETFROM:+0200
TZOFFSETTO:+0100
TZNAME:CET
DTSTART:20231029T010000
END:STANDARD
BEGIN:DAYLIGHT
TZOFFSETFROM:+0100
TZOFFSETTO:+0200
TZNAME:CEST
DTSTART:20240331T010000
END:DAYLIGHT
BEGIN:STANDARD
TZOFFSETFROM:+0200
TZOFFSETTO:+0100
TZNAME:CET
DTSTART:20241027T010000
END:STANDARD
BEGIN:DAYLIGHT
TZOFFSETFROM:+0100
TZOFFSETTO:+0200
TZNAME:CEST
DTSTART:20250330T010000
END:DAYLIGHT
BEGIN:STANDARD
TZOFFSETFROM:+0200
TZOFFSETTO:+0100
TZNAME:CET
DTSTART:20251026T010000
END:STANDARD
END:VTIMEZONE
BEGIN:VEVENT
DTSTART;TZID=Europe/Paris:20240203T090000
DTEND;TZID=Europe/Paris:20240203T140000
DTSTAMP:20260424T134926
CREATED:20231109T093628Z
LAST-MODIFIED:20240305T080404Z
UID:6651-1706950800-1706968800@www.tersterre.be
SUMMARY:Open Lesdag
DESCRIPTION:Bent u benieuwd hoe een dag verloopt op Ter Sterre? Op zaterdag 3 februari gaat onze open lesdag door en zetten wij onze school open om samen met onze collega’s en leerlingen jullie wegwijs te maken op ons schooldomein én het eigene van onze school te ontdekken. \nDeze open lesdag gaat door in Ter Sterre – Moorslede & in Ter Sterre – Oostnieuwkerke.\nDit van 9:00 – 11u00 of van 11u00 – 13u00 \nDeze infoavond is voorbij. U kunt hieronder wel de powerpoint voorstellingen zien die werden gebruikt.\n \nVoorstelling voor 1ste A Stroom\n\n\n \nVoorstelling voor 1ste B Stroom\n\n\n \nVoorstelling voor 2de Arbeidsmarkt finaliteit\n\n\n \nVoorstelling voor 2de Dubbele- en doorstroomfinaliteit
URL:https://www.tersterre.be/evenement/open-lesdag-2324/
CATEGORIES:2023-2024,Infomoment
END:VEVENT
END:VCALENDAR