BEGIN:VCALENDAR
VERSION:2.0
PRODID:-//GO! SBSO Campus Ter Sterre - Buitengewoon secundair onderwijs OV4 Type 9 - ECPv6.15.20//NONSGML v1.0//EN
CALSCALE:GREGORIAN
METHOD:PUBLISH
X-ORIGINAL-URL:https://www.tersterre.be
X-WR-CALDESC:Events voor GO! SBSO Campus Ter Sterre - Buitengewoon secundair onderwijs OV4 Type 9
REFRESH-INTERVAL;VALUE=DURATION:PT1H
X-Robots-Tag:noindex
X-PUBLISHED-TTL:PT1H
BEGIN:VTIMEZONE
TZID:Europe/Paris
BEGIN:DAYLIGHT
TZOFFSETFROM:+0100
TZOFFSETTO:+0200
TZNAME:CEST
DTSTART:20250330T010000
END:DAYLIGHT
BEGIN:STANDARD
TZOFFSETFROM:+0200
TZOFFSETTO:+0100
TZNAME:CET
DTSTART:20251026T010000
END:STANDARD
BEGIN:DAYLIGHT
TZOFFSETFROM:+0100
TZOFFSETTO:+0200
TZNAME:CEST
DTSTART:20260329T010000
END:DAYLIGHT
BEGIN:STANDARD
TZOFFSETFROM:+0200
TZOFFSETTO:+0100
TZNAME:CET
DTSTART:20261025T010000
END:STANDARD
BEGIN:DAYLIGHT
TZOFFSETFROM:+0100
TZOFFSETTO:+0200
TZNAME:CEST
DTSTART:20270328T010000
END:DAYLIGHT
BEGIN:STANDARD
TZOFFSETFROM:+0200
TZOFFSETTO:+0100
TZNAME:CET
DTSTART:20271031T010000
END:STANDARD
END:VTIMEZONE
BEGIN:VEVENT
DTSTART;TZID=Europe/Paris:20260319T183000
DTEND;TZID=Europe/Paris:20260319T210000
DTSTAMP:20260422T235620
CREATED:20251018T074535Z
LAST-MODIFIED:20260303T103655Z
UID:8670-1773945000-1773954000@www.tersterre.be
SUMMARY:Infoavond studieaanbod 2e graad voor campus Moorslede & campus Oostnieuwkerke
DESCRIPTION:Tijdens deze avond staan we uitgebreid stil bij de 9 verschillende keuzerichtingen die we op 2 vestigingen aanbieden in de 2de graad. \nInschrijven is verplicht en kan door dit formulier in te vullen.
URL:https://www.tersterre.be/evenement/infoavond-studieaanbod-2e-graad-voor-campus-moorslede-campus-oostnieuwkerke/
LOCATION:GO! SBSO Ter Sterre Vestiging Moorslede\, Passendaalsestraat 26\, Moorslede\, West-Vlaanderen\, 8890
CATEGORIES:2025 - 2026,Evenementen,Infomoment
END:VEVENT
BEGIN:VEVENT
DTSTART;TZID=Europe/Paris:20260321T090000
DTEND;TZID=Europe/Paris:20260321T120000
DTSTAMP:20260422T235620
CREATED:20251018T074751Z
LAST-MODIFIED:20260306T150422Z
UID:8674-1774083600-1774094400@www.tersterre.be
SUMMARY:OpenSchoolDag in vestiging Oostnieuwkerke
DESCRIPTION:Bent u benieuwd naar het reilen en zeilen van Ter Sterre Oostnieuwkerke? \nOp zaterdag 21 maart zetten wij tussen 9 en 12 uur onze school open zodat u de verschillende studierichtingen én het eigene van onze school kan ontdekken. \nLeerkrachten\, leerlingen én leden van het multidisciplinair team verwelkomen u en beantwoorden al uw vragen. \nLangskomen is geheel vrijblijvend en kan zonder inschrijven. \n  \nDe voorstellingen per richting worden als volgt georganiseerd: \n\n\n\nRICHTING\nLOKAAL\n\n\nArchitecturale en Beeldende vorming + Architecturale vorming\n0.6 & 0.7\n\n\nDecor en Etalage + Decor\, Etalage en Publiciteit\n0.4 & 0.5\n\n\nGrafische Technieken + Crossmedia\n0.2 & 0.3\n\n\n\n  \nOns lokaal grondplan kunt u hieronder raadplegen.
URL:https://www.tersterre.be/evenement/openschooldag-in-campus-oostnieuwkerke/
LOCATION:GO! SBSO Ter Sterre vestiging Oostnieuwkerke\, Roeselarestraat 61\, Oostnieuwkerke\, West-Vlaanderen\, 8840
CATEGORIES:2025 - 2026,Evenementen,Infomoment
END:VEVENT
BEGIN:VEVENT
DTSTART;TZID=Europe/Paris:20260421T183000
DTEND;TZID=Europe/Paris:20260421T193000
DTSTAMP:20260422T235620
CREATED:20260421T161704Z
LAST-MODIFIED:20260421T165742Z
UID:8810-1776796200-1776799800@www.tersterre.be
SUMMARY:Ordening aanmeldingen
DESCRIPTION:Deelnamen aan de digitale loting kan via deze link. \nDe digitale loting is voorbij. U kunt hieronder wel de powerpoint voorstelling herbekijken die werd gebruikt.
URL:https://www.tersterre.be/evenement/aanmelding-ordening/
LOCATION:Online
CATEGORIES:2025 - 2026,Infomoment
END:VEVENT
END:VCALENDAR