BEGIN:VCALENDAR
VERSION:2.0
PRODID:-//GO! SBSO Campus Ter Sterre - Buitengewoon secundair onderwijs OV4 Type 9 - ECPv6.15.20//NONSGML v1.0//EN
CALSCALE:GREGORIAN
METHOD:PUBLISH
X-WR-CALNAME:GO! SBSO Campus Ter Sterre - Buitengewoon secundair onderwijs OV4 Type 9
X-ORIGINAL-URL:https://www.tersterre.be
X-WR-CALDESC:Events voor GO! SBSO Campus Ter Sterre - Buitengewoon secundair onderwijs OV4 Type 9
REFRESH-INTERVAL;VALUE=DURATION:PT1H
X-Robots-Tag:noindex
X-PUBLISHED-TTL:PT1H
BEGIN:VTIMEZONE
TZID:Europe/Paris
BEGIN:DAYLIGHT
TZOFFSETFROM:+0100
TZOFFSETTO:+0200
TZNAME:CEST
DTSTART:20240331T010000
END:DAYLIGHT
BEGIN:STANDARD
TZOFFSETFROM:+0200
TZOFFSETTO:+0100
TZNAME:CET
DTSTART:20241027T010000
END:STANDARD
BEGIN:DAYLIGHT
TZOFFSETFROM:+0100
TZOFFSETTO:+0200
TZNAME:CEST
DTSTART:20250330T010000
END:DAYLIGHT
BEGIN:STANDARD
TZOFFSETFROM:+0200
TZOFFSETTO:+0100
TZNAME:CET
DTSTART:20251026T010000
END:STANDARD
BEGIN:DAYLIGHT
TZOFFSETFROM:+0100
TZOFFSETTO:+0200
TZNAME:CEST
DTSTART:20260329T010000
END:DAYLIGHT
BEGIN:STANDARD
TZOFFSETFROM:+0200
TZOFFSETTO:+0100
TZNAME:CET
DTSTART:20261025T010000
END:STANDARD
END:VTIMEZONE
BEGIN:VEVENT
DTSTART;TZID=Europe/Paris:20251107T190000
DTEND;TZID=Europe/Paris:20251107T210000
DTSTAMP:20260423T030047
CREATED:20251016T065814Z
LAST-MODIFIED:20251113T133628Z
UID:8665-1762542000-1762549200@www.tersterre.be
SUMMARY:Ouderavond - schoolwerking & inschrijvingsprocedure
DESCRIPTION:Deze informatieavond behelst alle info omtrent het specifieke van onze school in zowel de vestiging Oostnieuwkerke als Moorslede en hoe de inschrijvingsprocedure voor beide scholen voor het schooljaar 2026-2027 eruit zal zien. \nDeze infoavond is voorbij. U kunt hieronder wel de powerpoint voorstellingen herbekijken die werden gebruikt.
URL:https://www.tersterre.be/evenement/ouderavond-schoolwerking-inschrijvingsprocedure-2/
LOCATION:GO! SBSO Ter Sterre Vestiging Moorslede\, Passendaalsestraat 26\, Moorslede\, West-Vlaanderen\, 8890
CATEGORIES:2025 - 2026,Evenementen,Infomoment
END:VEVENT
END:VCALENDAR