BEGIN:VCALENDAR
VERSION:2.0
PRODID:-//GO! SBSO Campus Ter Sterre - Buitengewoon secundair onderwijs OV4 Type 9 - ECPv6.15.20//NONSGML v1.0//EN
CALSCALE:GREGORIAN
METHOD:PUBLISH
X-ORIGINAL-URL:https://www.tersterre.be
X-WR-CALDESC:Events voor GO! SBSO Campus Ter Sterre - Buitengewoon secundair onderwijs OV4 Type 9
REFRESH-INTERVAL;VALUE=DURATION:PT1H
X-Robots-Tag:noindex
X-PUBLISHED-TTL:PT1H
BEGIN:VTIMEZONE
TZID:Europe/Paris
BEGIN:DAYLIGHT
TZOFFSETFROM:+0100
TZOFFSETTO:+0200
TZNAME:CEST
DTSTART:20240331T010000
END:DAYLIGHT
BEGIN:STANDARD
TZOFFSETFROM:+0200
TZOFFSETTO:+0100
TZNAME:CET
DTSTART:20241027T010000
END:STANDARD
BEGIN:DAYLIGHT
TZOFFSETFROM:+0100
TZOFFSETTO:+0200
TZNAME:CEST
DTSTART:20250330T010000
END:DAYLIGHT
BEGIN:STANDARD
TZOFFSETFROM:+0200
TZOFFSETTO:+0100
TZNAME:CET
DTSTART:20251026T010000
END:STANDARD
BEGIN:DAYLIGHT
TZOFFSETFROM:+0100
TZOFFSETTO:+0200
TZNAME:CEST
DTSTART:20260329T010000
END:DAYLIGHT
BEGIN:STANDARD
TZOFFSETFROM:+0200
TZOFFSETTO:+0100
TZNAME:CET
DTSTART:20261025T010000
END:STANDARD
END:VTIMEZONE
BEGIN:VEVENT
DTSTART;TZID=Europe/Paris:20250614T090000
DTEND;TZID=Europe/Paris:20250614T120000
DTSTAMP:20260423T110500
CREATED:20241115T123505Z
LAST-MODIFIED:20241115T131619Z
UID:8275-1749891600-1749902400@www.tersterre.be
SUMMARY:Rondleiding
DESCRIPTION:Beste ouder\, beste leerling\, \nWelkom op Ter Sterre! Voor wie volgend jaar is ingeschreven in SBSO Ter Sterre stellen we graag onze school voor. We nemen jullie mee doorheen ons schooldomein en lichten onze schoolwerking toe. De rondleidingen duren een uur. We starten om 9u\, 10u en 11u. Per groep kunnen 5 nieuwe leerlingen aansluiten met maximum 2 andere personen. U kunt uw keuze doorgeven via een link die hier later gepubliceerd wordt. \nJullie zijn welkom op onze vestiging in de Passendaalsestraat 26 in Moorslede of op onze vestiging in Oostnieuwkerke in de Roeselarestraat 61. \nNeemt u op voorhand nog even onze schoolwebsite door? Via het onderdeel ‘schoolwerking’ krijgt u al wat meer info over onze visie\, studierichtingen… Hebt u nog vragen\, neem dan zeker contact op met de school.
URL:https://www.tersterre.be/evenement/rondleiding-2/
LOCATION:GO! SBSO Ter Sterre Vestigingen Moorslede & Oostnieuwkerke
CATEGORIES:2024-2025,Evenementen,Infomoment
END:VEVENT
END:VCALENDAR